Package: BiocVersion Version: 3.19.1 Command: /Library/Frameworks/R.framework/Resources/bin/R CMD build --keep-empty-dirs --no-resave-data BiocVersion StartedAt: 2024-10-16 20:23:35 -0400 (Wed, 16 Oct 2024) EndedAt: 2024-10-16 20:23:36 -0400 (Wed, 16 Oct 2024) EllapsedTime: 1.2 seconds RetCode: 0 Status: OK PackageFile: BiocVersion_3.19.1.tar.gz PackageFileSize: 999 bytes