Package: BiocParallel Version: 1.38.0 Command: /home/biocbuild/R/R-beta-2024-04-15_r86425/bin/R CMD check --install=check:BiocParallel.install-out.txt --library=/home/biocbuild/R/R-beta-2024-04-15_r86425/site-library --no-vignettes --timings BiocParallel_1.38.0.tar.gz StartedAt: 2024-05-09 05:12:57 -0000 (Thu, 09 May 2024) EndedAt: 2024-05-09 05:20:26 -0000 (Thu, 09 May 2024) EllapsedTime: 449.0 seconds RetCode: 1 Status: ERROR CheckDir: BiocParallel.Rcheck Warnings: NA