Package: BiocBaseUtils Version: 1.6.0 Command: chmod a+r BiocBaseUtils -R && E:\biocbuild\bbs-3.19-bioc\R\bin\R.exe CMD build --keep-empty-dirs --no-resave-data BiocBaseUtils StartedAt: 2024-10-16 17:49:00 -0400 (Wed, 16 Oct 2024) EndedAt: 2024-10-16 17:49:12 -0400 (Wed, 16 Oct 2024) EllapsedTime: 12.0 seconds RetCode: 0 Status: OK PackageFile: BiocBaseUtils_1.6.0.tar.gz PackageFileSize: 224.1 KiB