Package: BiSeq Version: 1.44.0 Command: rm -rf BiSeq.buildbin-libdir && mkdir BiSeq.buildbin-libdir && /Users/biocbuild/BBS/utils/build-universal.sh BiSeq_1.44.0.tar.gz /Library/Frameworks/R.framework/Resources/bin/R BiSeq.buildbin-libdir StartedAt: 2024-06-11 10:22:34 -0400 (Tue, 11 Jun 2024) EndedAt: 2024-06-11 10:24:05 -0400 (Tue, 11 Jun 2024) EllapsedTime: 90.8 seconds RetCode: 0 Status: OK PackageFile: BiSeq_1.44.0.tgz PackageFileSize: 1.156 MiB