Package: BiSeq Version: 1.44.0 Command: rm -rf BiSeq.buildbin-libdir && mkdir BiSeq.buildbin-libdir && /Users/biocbuild/BBS/utils/build-universal.sh BiSeq_1.44.0.tar.gz /Library/Frameworks/R.framework/Resources/bin/R BiSeq.buildbin-libdir StartedAt: 2024-10-18 17:33:23 -0400 (Fri, 18 Oct 2024) EndedAt: 2024-10-18 17:34:22 -0400 (Fri, 18 Oct 2024) EllapsedTime: 58.6 seconds RetCode: 0 Status: OK PackageFile: BiSeq_1.44.0.tgz PackageFileSize: 1.155 MiB