Package: BadRegionFinder Version: 1.32.0 Command: /home/biocbuild/bbs-3.19-bioc/R/bin/R CMD build --keep-empty-dirs --no-resave-data BadRegionFinder StartedAt: 2024-10-16 17:00:31 -0400 (Wed, 16 Oct 2024) EndedAt: 2024-10-16 17:01:48 -0400 (Wed, 16 Oct 2024) EllapsedTime: 76.2 seconds RetCode: 0 Status: OK PackageFile: BadRegionFinder_1.32.0.tar.gz PackageFileSize: 712 KiB