Package: BASiCStan Version: 1.6.0 Command: rm -rf BASiCStan.buildbin-libdir && mkdir BASiCStan.buildbin-libdir && /Users/biocbuild/BBS/utils/build-universal.sh BASiCStan_1.6.0.tar.gz /Library/Frameworks/R.framework/Resources/bin/R BASiCStan.buildbin-libdir StartedAt: 2024-06-10 00:07:32 -0400 (Mon, 10 Jun 2024) EndedAt: 2024-06-10 00:12:21 -0400 (Mon, 10 Jun 2024) EllapsedTime: 289.2 seconds RetCode: 0 Status: OK PackageFile: BASiCStan_1.6.0.tgz PackageFileSize: 1.198 MiB