Package: AnnotationHubData Version: 1.34.0 Command: rm -rf AnnotationHubData.buildbin-libdir && mkdir AnnotationHubData.buildbin-libdir && /Users/biocbuild/BBS/utils/build-universal.sh AnnotationHubData_1.34.0.tar.gz /Library/Frameworks/R.framework/Resources/bin/R AnnotationHubData.buildbin-libdir StartedAt: 2024-06-10 00:06:35 -0400 (Mon, 10 Jun 2024) EndedAt: 2024-06-10 00:07:33 -0400 (Mon, 10 Jun 2024) EllapsedTime: 58.0 seconds RetCode: 0 Status: OK PackageFile: AnnotationHubData_1.34.0.tgz PackageFileSize: 930.4 KiB