Package: AnnotationDbi Version: 1.66.0 Command: chmod a+r AnnotationDbi -R && E:\biocbuild\bbs-3.19-bioc\R\bin\R.exe CMD build --keep-empty-dirs --no-resave-data AnnotationDbi StartedAt: 2024-10-16 17:33:02 -0400 (Wed, 16 Oct 2024) EndedAt: 2024-10-16 17:35:21 -0400 (Wed, 16 Oct 2024) EllapsedTime: 139.2 seconds RetCode: 0 Status: OK PackageFile: AnnotationDbi_1.66.0.tar.gz PackageFileSize: 4.16 MiB