Package: AnnotationDbi Version: 1.66.0 Command: rm -rf AnnotationDbi.buildbin-libdir && mkdir AnnotationDbi.buildbin-libdir && E:\biocbuild\bbs-3.19-bioc\R\bin\R.exe CMD INSTALL --build --library=AnnotationDbi.buildbin-libdir AnnotationDbi_1.66.0.tar.gz StartedAt: 2024-10-17 07:19:45 -0400 (Thu, 17 Oct 2024) EndedAt: 2024-10-17 07:22:04 -0400 (Thu, 17 Oct 2024) EllapsedTime: 138.4 seconds RetCode: 0 Status: OK PackageFile: AnnotationDbi_1.66.0.zip PackageFileSize: 5.041 MiB