Package: AnnotationDbi Version: 1.66.0 Command: /home/biocbuild/bbs-3.19-bioc/R/bin/R CMD INSTALL AnnotationDbi StartedAt: 2024-10-16 16:00:35 -0400 (Wed, 16 Oct 2024) EndedAt: 2024-10-16 16:00:54 -0400 (Wed, 16 Oct 2024) EllapsedTime: 18.3 seconds RetCode: 0 Status: OK