Package: AnnotationDbi Version: 1.66.0 Command: /home/biocbuild/bbs-3.19-bioc/R/bin/R CMD build --keep-empty-dirs --no-resave-data AnnotationDbi StartedAt: 2024-10-16 16:54:41 -0400 (Wed, 16 Oct 2024) EndedAt: 2024-10-16 16:55:32 -0400 (Wed, 16 Oct 2024) EllapsedTime: 51.1 seconds RetCode: 0 Status: OK PackageFile: AnnotationDbi_1.66.0.tar.gz PackageFileSize: 4.157 MiB