Package: AnnotationDbi Version: 1.66.0 Command: /Library/Frameworks/R.framework/Resources/bin/R CMD INSTALL AnnotationDbi StartedAt: 2024-10-16 16:12:21 -0400 (Wed, 16 Oct 2024) EndedAt: 2024-10-16 16:12:43 -0400 (Wed, 16 Oct 2024) EllapsedTime: 22.7 seconds RetCode: 0 Status: OK