Package: AnnotationDbi Version: 1.66.0 Command: /Library/Frameworks/R.framework/Resources/bin/R CMD build --keep-empty-dirs --no-resave-data AnnotationDbi StartedAt: 2024-10-16 19:20:45 -0400 (Wed, 16 Oct 2024) EndedAt: 2024-10-16 19:22:08 -0400 (Wed, 16 Oct 2024) EllapsedTime: 83.2 seconds RetCode: 0 Status: OK PackageFile: AnnotationDbi_1.66.0.tar.gz PackageFileSize: 4.17 MiB