Package: ATACseqQC Version: 1.28.0 Command: rm -rf ATACseqQC.buildbin-libdir && mkdir ATACseqQC.buildbin-libdir && E:\biocbuild\bbs-3.19-bioc\R\bin\R.exe CMD INSTALL --build --library=ATACseqQC.buildbin-libdir ATACseqQC_1.28.0.tar.gz StartedAt: 2024-10-17 07:21:09 -0400 (Thu, 17 Oct 2024) EndedAt: 2024-10-17 07:22:19 -0400 (Thu, 17 Oct 2024) EllapsedTime: 70.0 seconds RetCode: 0 Status: OK PackageFile: ATACseqQC_1.28.0.zip PackageFileSize: 13.11 MiB