Package: ASSIGN Version: 1.40.0 Command: /home/biocbuild/R/R-beta-2024-04-15_r86425/bin/R CMD build --keep-empty-dirs --no-resave-data ASSIGN StartedAt: 2024-05-08 22:22:29 -0000 (Wed, 08 May 2024) EndedAt: 2024-05-08 22:22:37 -0000 (Wed, 08 May 2024) EllapsedTime: 8.0 seconds RetCode: 0 Status: OK PackageFile: ASSIGN_1.40.0.tar.gz PackageFileSize: 1.685 MiB