Package: APL Version: 1.8.0 Command: rm -rf APL.buildbin-libdir && mkdir APL.buildbin-libdir && /Users/biocbuild/BBS/utils/build-universal.sh APL_1.8.0.tar.gz /Library/Frameworks/R.framework/Resources/bin/R APL.buildbin-libdir StartedAt: 2024-06-11 10:08:19 -0400 (Tue, 11 Jun 2024) EndedAt: 2024-06-11 10:09:53 -0400 (Tue, 11 Jun 2024) EllapsedTime: 93.5 seconds RetCode: 0 Status: OK PackageFile: APL_1.8.0.tgz PackageFileSize: 3.233 MiB