Package: ABarray Version: 1.72.0 Command: /home/biocbuild/R/R-beta-2024-04-15_r86425/bin/R CMD check --install=check:ABarray.install-out.txt --library=/home/biocbuild/R/R-beta-2024-04-15_r86425/site-library --no-vignettes --timings ABarray_1.72.0.tar.gz StartedAt: 2024-05-09 04:37:13 -0000 (Thu, 09 May 2024) EndedAt: 2024-05-09 04:38:27 -0000 (Thu, 09 May 2024) EllapsedTime: 73.2 seconds RetCode: 0 Status: OK CheckDir: ABarray.Rcheck Warnings: 0