Package: seqpac Version: 1.2.0 Command: /Library/Frameworks/R.framework/Resources/bin/R CMD build --keep-empty-dirs --no-resave-data seqpac StartedAt: 2024-03-01 11:03:26 -0500 (Fri, 01 Mar 2024) EndedAt: 2024-03-01 11:06:32 -0500 (Fri, 01 Mar 2024) EllapsedTime: 185.9 seconds RetCode: 0 Status: OK PackageFile: seqpac_1.2.0.tar.gz PackageFileSize: 3.023 MiB