This page was generated on 2024-04-16 14:00:10 -0400 (Tue, 16 Apr 2024).
|
| Hostname | OS | Arch (*) | R version | Installed pkgs |
|---|---|---|---|---|
| nebbiolo2 | Linux (Ubuntu 22.04.3 LTS) | x86_64 | 4.3.3 (2024-02-29) -- "Angel Food Cake" | 4676 |
| palomino4 | Windows Server 2022 Datacenter | x64 | 4.3.3 (2024-02-29 ucrt) -- "Angel Food Cake" | 4414 |
| merida1 | macOS 12.7.1 Monterey | x86_64 | 4.3.3 (2024-02-29) -- "Angel Food Cake" | 4437 |
| Click on any hostname to see more info about the system (e.g. compilers) (*) as reported by 'uname -p', except on Windows and Mac OS X | ||||
A | |||||||||
| QUICK STATS | OS / Arch | INSTALL | BUILD | ||||||||||
| nebbiolo2 | Linux (Ubuntu 22.04.3 LTS) / x86_64 |
|
| ||||||||||
| palomino4 | Windows Server 2022 Datacenter / x64 |
|
| ||||||||||
| merida1 | macOS 12.7.1 Monterey / x86_64 |
|
| ||||||||||
| Package 1/30 | Hostname | OS / Arch | INSTALL | BUILD | |||||||||
| annotation 1.26.0 (landing page) Bioconductor Package Maintainer
| nebbiolo2 | Linux (Ubuntu 22.04.3 LTS) / x86_64 | OK | ERROR | |||||||||
| palomino4 | Windows Server 2022 Datacenter / x64 | OK | ERROR | ||||||||||
| merida1 | macOS 12.7.1 Monterey / x86_64 | OK | ERROR | ||||||||||
| Package 2/30 | Hostname | OS / Arch | INSTALL | BUILD | |||||||||
| arrays 1.28.0 (landing page) Bioconductor Package Maintainer
| nebbiolo2 | Linux (Ubuntu 22.04.3 LTS) / x86_64 | OK | OK | |||||||||
| palomino4 | Windows Server 2022 Datacenter / x64 | OK | OK | ||||||||||
| merida1 | macOS 12.7.1 Monterey / x86_64 | OK | OK | ||||||||||
| Package 3/30 | Hostname | OS / Arch | INSTALL | BUILD | |||||||||
| BiocMetaWorkflow 1.24.0 (landing page) Mike Smith
| nebbiolo2 | Linux (Ubuntu 22.04.3 LTS) / x86_64 | OK | OK | |||||||||
| palomino4 | Windows Server 2022 Datacenter / x64 | OK | OK | ||||||||||
| merida1 | macOS 12.7.1 Monterey / x86_64 | OK | OK | ||||||||||
| Package 4/30 | Hostname | OS / Arch | INSTALL | BUILD | |||||||||
| BP4RNAseq 1.12.0 (landing page) Shanwen Sun
| nebbiolo2 | Linux (Ubuntu 22.04.3 LTS) / x86_64 | OK | OK | |||||||||
| palomino4 | Windows Server 2022 Datacenter / x64 | OK | OK | ||||||||||
| merida1 | macOS 12.7.1 Monterey / x86_64 | OK | OK | ||||||||||
| Package 5/30 | Hostname | OS / Arch | INSTALL | BUILD | |||||||||
| CAGEWorkflow 1.18.0 (landing page) Malte Thodberg
| nebbiolo2 | Linux (Ubuntu 22.04.3 LTS) / x86_64 | OK | OK | |||||||||
| palomino4 | Windows Server 2022 Datacenter / x64 | ... NOT SUPPORTED ... | |||||||||||
| merida1 | macOS 12.7.1 Monterey / x86_64 | OK | OK | ||||||||||
| Package 6/30 | Hostname | OS / Arch | INSTALL | BUILD | |||||||||
| chipseqDB 1.26.0 (landing page) Aaron Lun
| nebbiolo2 | Linux (Ubuntu 22.04.3 LTS) / x86_64 | OK | OK | |||||||||
| palomino4 | Windows Server 2022 Datacenter / x64 | ... NOT SUPPORTED ... | |||||||||||
| merida1 | macOS 12.7.1 Monterey / x86_64 | OK | OK | ||||||||||
| Package 7/30 | Hostname | OS / Arch | INSTALL | BUILD | |||||||||
| csawUsersGuide 1.18.0 (landing page) Aaron Lun
| nebbiolo2 | Linux (Ubuntu 22.04.3 LTS) / x86_64 | OK | OK | |||||||||
| palomino4 | Windows Server 2022 Datacenter / x64 | OK | OK | ||||||||||
| merida1 | macOS 12.7.1 Monterey / x86_64 | OK | OK | ||||||||||
| Package 8/30 | Hostname | OS / Arch | INSTALL | BUILD | |||||||||
| cytofWorkflow 1.26.1 (landing page) Mark D. Robinson
| nebbiolo2 | Linux (Ubuntu 22.04.3 LTS) / x86_64 | OK | OK | |||||||||
| palomino4 | Windows Server 2022 Datacenter / x64 | OK | OK | ||||||||||
| merida1 | macOS 12.7.1 Monterey / x86_64 | OK | OK | ||||||||||
| Package 9/30 | Hostname | OS / Arch | INSTALL | BUILD | |||||||||
| EGSEA123 1.26.0 (landing page) Matthew Ritchie
| nebbiolo2 | Linux (Ubuntu 22.04.3 LTS) / x86_64 | OK | OK | |||||||||
| palomino4 | Windows Server 2022 Datacenter / x64 | OK | OK | ||||||||||
| merida1 | macOS 12.7.1 Monterey / x86_64 | OK | OK | ||||||||||
| Package 10/30 | Hostname | OS / Arch | INSTALL | BUILD | |||||||||
| ExpHunterSuite 1.10.0 (landing page) James Perkins
| nebbiolo2 | Linux (Ubuntu 22.04.3 LTS) / x86_64 | OK | OK | |||||||||
| palomino4 | Windows Server 2022 Datacenter / x64 | OK | OK | ||||||||||
| merida1 | macOS 12.7.1 Monterey / x86_64 | OK | OK | ||||||||||
| Package 11/30 | Hostname | OS / Arch | INSTALL | BUILD | |||||||||
| ExpressionNormalizationWorkflow 1.28.0 (landing page) Karthikeyan Murugesan
| nebbiolo2 | Linux (Ubuntu 22.04.3 LTS) / x86_64 | OK | OK | |||||||||
| palomino4 | Windows Server 2022 Datacenter / x64 | OK | OK | ||||||||||
| merida1 | macOS 12.7.1 Monterey / x86_64 | OK | OK | ||||||||||
| Package 12/30 | Hostname | OS / Arch | INSTALL | BUILD | |||||||||
| fluentGenomics 1.14.0 (landing page) Stuart Lee
| nebbiolo2 | Linux (Ubuntu 22.04.3 LTS) / x86_64 | OK | OK | |||||||||
| palomino4 | Windows Server 2022 Datacenter / x64 | OK | OK | ||||||||||
| merida1 | macOS 12.7.1 Monterey / x86_64 | OK | OK | ||||||||||
| Package 13/30 | Hostname | OS / Arch | INSTALL | BUILD | |||||||||
| generegulation 1.26.0 (landing page) Bioconductor Package Maintainer
| nebbiolo2 | Linux (Ubuntu 22.04.3 LTS) / x86_64 | OK | OK | |||||||||
| palomino4 | Windows Server 2022 Datacenter / x64 | OK | OK | ||||||||||
| merida1 | macOS 12.7.1 Monterey / x86_64 | OK | OK | ||||||||||
| Package 14/30 | Hostname | OS / Arch | INSTALL | BUILD | |||||||||
| GeoMxWorkflows 1.8.0 (landing page) Maddy Griswold
| nebbiolo2 | Linux (Ubuntu 22.04.3 LTS) / x86_64 | OK | OK | |||||||||
| palomino4 | Windows Server 2022 Datacenter / x64 | OK | OK | ||||||||||
| merida1 | macOS 12.7.1 Monterey / x86_64 | OK | OK | ||||||||||
| Package 15/30 | Hostname | OS / Arch | INSTALL | BUILD | |||||||||
| highthroughputassays 1.26.0 (landing page) Bioconductor Package Maintainer
| nebbiolo2 | Linux (Ubuntu 22.04.3 LTS) / x86_64 | OK | OK | |||||||||
| palomino4 | Windows Server 2022 Datacenter / x64 | ... NOT SUPPORTED ... | |||||||||||
| merida1 | macOS 12.7.1 Monterey / x86_64 | ... NOT SUPPORTED ... | |||||||||||
| Package 16/30 | Hostname | OS / Arch | INSTALL | BUILD | |||||||||
| liftOver 1.26.0 (landing page) Bioconductor Package Maintainer
| nebbiolo2 | Linux (Ubuntu 22.04.3 LTS) / x86_64 | OK | OK | |||||||||
| palomino4 | Windows Server 2022 Datacenter / x64 | OK | OK | ||||||||||
| merida1 | macOS 12.7.1 Monterey / x86_64 | OK | OK | ||||||||||
| Package 17/30 | Hostname | OS / Arch | INSTALL | BUILD | |||||||||
| maEndToEnd 2.22.1 (landing page) Stefanie Reisenauer
| nebbiolo2 | Linux (Ubuntu 22.04.3 LTS) / x86_64 | OK | OK | |||||||||
| palomino4 | Windows Server 2022 Datacenter / x64 | OK | ERROR | ||||||||||
| merida1 | macOS 12.7.1 Monterey / x86_64 | OK | OK | ||||||||||
| Package 18/30 | Hostname | OS / Arch | INSTALL | BUILD | |||||||||
| methylationArrayAnalysis 1.26.0 (landing page) Jovana Maksimovic
| nebbiolo2 | Linux (Ubuntu 22.04.3 LTS) / x86_64 | OK | OK | |||||||||
| palomino4 | Windows Server 2022 Datacenter / x64 | OK | OK | ||||||||||
| merida1 | macOS 12.7.1 Monterey / x86_64 | OK | OK | ||||||||||
| Package 19/30 | Hostname | OS / Arch | INSTALL | BUILD | |||||||||
| recountWorkflow 1.26.0 (landing page) Leonardo Collado-Torres
| nebbiolo2 | Linux (Ubuntu 22.04.3 LTS) / x86_64 | OK | ERROR | |||||||||
| palomino4 | Windows Server 2022 Datacenter / x64 | OK | OK | ||||||||||
| merida1 | macOS 12.7.1 Monterey / x86_64 | OK | ERROR | ||||||||||
| Package 20/30 | Hostname | OS / Arch | INSTALL | BUILD | |||||||||
| RNAseq123 1.26.0 (landing page) Matthew Ritchie
| nebbiolo2 | Linux (Ubuntu 22.04.3 LTS) / x86_64 | OK | OK | |||||||||
| palomino4 | Windows Server 2022 Datacenter / x64 | OK | OK | ||||||||||
| merida1 | macOS 12.7.1 Monterey / x86_64 | OK | OK | ||||||||||
| Package 21/30 | Hostname | OS / Arch | INSTALL | BUILD | |||||||||
| rnaseqDTU 1.22.0 (landing page) Michael Love
| nebbiolo2 | Linux (Ubuntu 22.04.3 LTS) / x86_64 | OK | OK | |||||||||
| palomino4 | Windows Server 2022 Datacenter / x64 | OK | OK | ||||||||||
| merida1 | macOS 12.7.1 Monterey / x86_64 | OK | OK | ||||||||||
| Package 22/30 | Hostname | OS / Arch | INSTALL | BUILD | |||||||||
| rnaseqGene 1.26.0 (landing page) Michael Love
| nebbiolo2 | Linux (Ubuntu 22.04.3 LTS) / x86_64 | OK | OK | |||||||||
| palomino4 | Windows Server 2022 Datacenter / x64 | OK | OK | ||||||||||
| merida1 | macOS 12.7.1 Monterey / x86_64 | OK | OK | ||||||||||
| Package 23/30 | Hostname | OS / Arch | INSTALL | BUILD | |||||||||
| RnaSeqGeneEdgeRQL 1.26.0 (landing page) Yunshun Chen
| nebbiolo2 | Linux (Ubuntu 22.04.3 LTS) / x86_64 | OK | OK | |||||||||
| palomino4 | Windows Server 2022 Datacenter / x64 | OK | OK | ||||||||||
| merida1 | macOS 12.7.1 Monterey / x86_64 | OK | OK | ||||||||||
| Package 24/30 | Hostname | OS / Arch | INSTALL | BUILD | |||||||||
| seqpac 1.2.0 (landing page) Daniel Natt
| nebbiolo2 | Linux (Ubuntu 22.04.3 LTS) / x86_64 | OK | OK | |||||||||
| palomino4 | Windows Server 2022 Datacenter / x64 | OK | OK | ||||||||||
| merida1 | macOS 12.7.1 Monterey / x86_64 | OK | OK | ||||||||||
| Package 25/30 | Hostname | OS / Arch | INSTALL | BUILD | |||||||||
| sequencing 1.26.0 (landing page) Bioconductor Package Maintainer
| nebbiolo2 | Linux (Ubuntu 22.04.3 LTS) / x86_64 | OK | OK | |||||||||
| palomino4 | Windows Server 2022 Datacenter / x64 | OK | OK | ||||||||||
| merida1 | macOS 12.7.1 Monterey / x86_64 | OK | OK | ||||||||||
| Package 26/30 | Hostname | OS / Arch | INSTALL | BUILD | |||||||||
| simpleSingleCell 1.26.0 (landing page) Aaron Lun
| nebbiolo2 | Linux (Ubuntu 22.04.3 LTS) / x86_64 | OK | OK | |||||||||
| palomino4 | Windows Server 2022 Datacenter / x64 | ... NOT SUPPORTED ... | |||||||||||
| merida1 | macOS 12.7.1 Monterey / x86_64 | OK | OK | ||||||||||
| Package 27/30 | Hostname | OS / Arch | INSTALL | BUILD | |||||||||
| SingscoreAMLMutations 1.18.0 (landing page) Dharmesh D. Bhuva
| nebbiolo2 | Linux (Ubuntu 22.04.3 LTS) / x86_64 | OK | OK | |||||||||
| palomino4 | Windows Server 2022 Datacenter / x64 | OK | OK | ||||||||||
| merida1 | macOS 12.7.1 Monterey / x86_64 | OK | OK | ||||||||||
| Package 28/30 | Hostname | OS / Arch | INSTALL | BUILD | |||||||||
| spicyWorkflow 1.2.1 (landing page) SOMS Maintainer
| nebbiolo2 | Linux (Ubuntu 22.04.3 LTS) / x86_64 | OK | ERROR | |||||||||
| palomino4 | Windows Server 2022 Datacenter / x64 | OK | ERROR | ||||||||||
| merida1 | macOS 12.7.1 Monterey / x86_64 | OK | ERROR | ||||||||||
| Package 29/30 | Hostname | OS / Arch | INSTALL | BUILD | |||||||||
| TCGAWorkflow 1.26.0 (landing page) Tiago Chedraoui Silva
| nebbiolo2 | Linux (Ubuntu 22.04.3 LTS) / x86_64 | OK | OK | |||||||||
| palomino4 | Windows Server 2022 Datacenter / x64 | OK | OK | ||||||||||
| merida1 | macOS 12.7.1 Monterey / x86_64 | OK | OK | ||||||||||
| Package 30/30 | Hostname | OS / Arch | INSTALL | BUILD | |||||||||
| variants 1.26.0 (landing page) Bioconductor Package Maintainer
| nebbiolo2 | Linux (Ubuntu 22.04.3 LTS) / x86_64 | OK | OK | |||||||||
| palomino4 | Windows Server 2022 Datacenter / x64 | OK | OK | ||||||||||
| merida1 | macOS 12.7.1 Monterey / x86_64 | OK | OK | ||||||||||