Package: xcoredata Version: 1.6.0 Command: /home/biocbuild/bbs-3.18-bioc/R/bin/R CMD check --install=check:xcoredata.install-out.txt --library=/home/biocbuild/bbs-3.18-bioc/R/site-library --timings xcoredata_1.6.0.tar.gz StartedAt: 2024-04-16 12:36:18 -0400 (Tue, 16 Apr 2024) EndedAt: 2024-04-16 12:43:30 -0400 (Tue, 16 Apr 2024) EllapsedTime: 431.2 seconds RetCode: 0 Status: OK CheckDir: xcoredata.Rcheck Warnings: 0