Package: MouseThymusAgeing Version: 1.10.0 Command: /home/biocbuild/bbs-3.18-bioc/R/bin/R CMD check --install=check:MouseThymusAgeing.install-out.txt --library=/home/biocbuild/bbs-3.18-bioc/R/site-library --timings MouseThymusAgeing_1.10.0.tar.gz StartedAt: 2024-04-16 11:58:00 -0400 (Tue, 16 Apr 2024) EndedAt: 2024-04-16 12:02:18 -0400 (Tue, 16 Apr 2024) EllapsedTime: 258.1 seconds RetCode: 0 Status: OK CheckDir: MouseThymusAgeing.Rcheck Warnings: 0