Package: weitrix Version: 1.14.0 Command: rm -rf weitrix.buildbin-libdir && mkdir weitrix.buildbin-libdir && /Users/biocbuild/BBS/utils/build-universal.sh weitrix_1.14.0.tar.gz /Library/Frameworks/R.framework/Resources/bin/R weitrix.buildbin-libdir StartedAt: 2024-04-15 10:56:48 -0400 (Mon, 15 Apr 2024) EndedAt: 2024-04-15 10:57:35 -0400 (Mon, 15 Apr 2024) EllapsedTime: 46.6 seconds RetCode: 0 Status: OK PackageFile: weitrix_1.14.0.tgz PackageFileSize: 9.249 MiB