Package: uncoverappLib Version: 1.12.0 Command: rm -rf uncoverappLib.buildbin-libdir && mkdir uncoverappLib.buildbin-libdir && /Users/biocbuild/BBS/utils/build-universal.sh uncoverappLib_1.12.0.tar.gz /Library/Frameworks/R.framework/Resources/bin/R uncoverappLib.buildbin-libdir StartedAt: 2024-04-15 10:52:30 -0400 (Mon, 15 Apr 2024) EndedAt: 2024-04-15 10:54:02 -0400 (Mon, 15 Apr 2024) EllapsedTime: 91.7 seconds RetCode: 0 Status: OK PackageFile: uncoverappLib_1.12.0.tgz PackageFileSize: 2.831 MiB