Package: treekoR Version: 1.10.0 Command: /Library/Frameworks/R.framework/Resources/bin/R CMD build --keep-empty-dirs --no-resave-data treekoR StartedAt: 2024-04-17 04:17:58 -0400 (Wed, 17 Apr 2024) EndedAt: 2024-04-17 04:19:46 -0400 (Wed, 17 Apr 2024) EllapsedTime: 107.8 seconds RetCode: 0 Status: OK PackageFile: treekoR_1.10.0.tar.gz PackageFileSize: 1.576 MiB