Package: timeOmics Version: 1.14.0 Command: /Library/Frameworks/R.framework/Resources/bin/R CMD build --keep-empty-dirs --no-resave-data timeOmics StartedAt: 2024-04-17 04:04:00 -0400 (Wed, 17 Apr 2024) EndedAt: 2024-04-17 04:04:40 -0400 (Wed, 17 Apr 2024) EllapsedTime: 40.0 seconds RetCode: 0 Status: OK PackageFile: timeOmics_1.14.0.tar.gz PackageFileSize: 4.011 MiB