Package: tidybulk Version: 1.14.3 Command: /Library/Frameworks/R.framework/Resources/bin/R CMD build --keep-empty-dirs --no-resave-data tidybulk StartedAt: 2024-04-17 04:02:16 -0400 (Wed, 17 Apr 2024) EndedAt: 2024-04-17 04:04:00 -0400 (Wed, 17 Apr 2024) EllapsedTime: 104.1 seconds RetCode: 0 Status: OK PackageFile: tidybulk_1.14.3.tar.gz PackageFileSize: 3.113 MiB