Package: tidybulk Version: 1.14.3 Command: rm -rf tidybulk.buildbin-libdir && mkdir tidybulk.buildbin-libdir && /Users/biocbuild/BBS/utils/build-universal.sh tidybulk_1.14.3.tar.gz /Library/Frameworks/R.framework/Resources/bin/R tidybulk.buildbin-libdir StartedAt: 2024-04-15 10:46:30 -0400 (Mon, 15 Apr 2024) EndedAt: 2024-04-15 10:47:43 -0400 (Mon, 15 Apr 2024) EllapsedTime: 72.8 seconds RetCode: 0 Status: OK PackageFile: tidybulk_1.14.3.tgz PackageFileSize: 3.413 MiB