Package: tidySummarizedExperiment Version: 1.12.0 Command: /Library/Frameworks/R.framework/Resources/bin/R CMD INSTALL tidySummarizedExperiment StartedAt: 2024-04-16 11:39:38 -0400 (Tue, 16 Apr 2024) EndedAt: 2024-04-16 11:40:11 -0400 (Tue, 16 Apr 2024) EllapsedTime: 32.5 seconds RetCode: 0 Status: OK