Package: tidySummarizedExperiment Version: 1.12.0 Command: /Library/Frameworks/R.framework/Resources/bin/R CMD build --keep-empty-dirs --no-resave-data tidySummarizedExperiment StartedAt: 2024-04-17 04:02:50 -0400 (Wed, 17 Apr 2024) EndedAt: 2024-04-17 04:03:49 -0400 (Wed, 17 Apr 2024) EllapsedTime: 58.8 seconds RetCode: 0 Status: OK PackageFile: tidySummarizedExperiment_1.12.0.tar.gz PackageFileSize: 597.9 KiB