Package: tidySummarizedExperiment Version: 1.12.0 Command: rm -rf tidySummarizedExperiment.buildbin-libdir && mkdir tidySummarizedExperiment.buildbin-libdir && /Users/biocbuild/BBS/utils/build-universal.sh tidySummarizedExperiment_1.12.0.tar.gz /Library/Frameworks/R.framework/Resources/bin/R tidySummarizedExperiment.buildbin-libdir StartedAt: 2024-04-15 10:46:34 -0400 (Mon, 15 Apr 2024) EndedAt: 2024-04-15 10:47:15 -0400 (Mon, 15 Apr 2024) EllapsedTime: 41.1 seconds RetCode: 0 Status: OK PackageFile: tidySummarizedExperiment_1.12.0.tgz PackageFileSize: 654.2 KiB