Package: tRNAscanImport Version: 1.22.0 Command: /Library/Frameworks/R.framework/Resources/bin/R CMD build --keep-empty-dirs --no-resave-data tRNAscanImport StartedAt: 2024-04-17 04:23:10 -0400 (Wed, 17 Apr 2024) EndedAt: 2024-04-17 04:25:02 -0400 (Wed, 17 Apr 2024) EllapsedTime: 112.0 seconds RetCode: 0 Status: OK PackageFile: tRNAscanImport_1.22.0.tar.gz PackageFileSize: 875.7 KiB