Package: survcomp Version: 1.52.0 Command: rm -rf survcomp.buildbin-libdir && mkdir survcomp.buildbin-libdir && /Users/biocbuild/BBS/utils/build-universal.sh survcomp_1.52.0.tar.gz /Library/Frameworks/R.framework/Resources/bin/R survcomp.buildbin-libdir StartedAt: 2024-04-15 10:42:26 -0400 (Mon, 15 Apr 2024) EndedAt: 2024-04-15 10:42:44 -0400 (Mon, 15 Apr 2024) EllapsedTime: 18.3 seconds RetCode: 0 Status: OK PackageFile: survcomp_1.52.0.tgz PackageFileSize: 823.9 KiB