Package: sscore Version: 1.74.0 Command: rm -rf sscore.buildbin-libdir && mkdir sscore.buildbin-libdir && /Users/biocbuild/BBS/utils/build-universal.sh sscore_1.74.0.tar.gz /Library/Frameworks/R.framework/Resources/bin/R sscore.buildbin-libdir StartedAt: 2024-04-18 11:27:19 -0400 (Thu, 18 Apr 2024) EndedAt: 2024-04-18 11:27:27 -0400 (Thu, 18 Apr 2024) EllapsedTime: 8.1 seconds RetCode: 0 Status: OK PackageFile: sscore_1.74.0.tgz PackageFileSize: 332.8 KiB