Package: spatialHeatmap Version: 2.8.5 Command: rm -rf spatialHeatmap.buildbin-libdir && mkdir spatialHeatmap.buildbin-libdir && /Users/biocbuild/BBS/utils/build-universal.sh spatialHeatmap_2.8.5.tar.gz /Library/Frameworks/R.framework/Resources/bin/R spatialHeatmap.buildbin-libdir StartedAt: 2024-03-07 10:42:21 -0500 (Thu, 07 Mar 2024) EndedAt: 2024-03-07 10:43:41 -0500 (Thu, 07 Mar 2024) EllapsedTime: 79.7 seconds RetCode: 0 Status: OK PackageFile: spatialHeatmap_2.8.5.tgz PackageFileSize: 33.36 MiB