Package: shinyepico Version: 1.10.0 Command: /Library/Frameworks/R.framework/Resources/bin/R CMD build --keep-empty-dirs --no-resave-data shinyepico StartedAt: 2024-04-17 02:41:18 -0400 (Wed, 17 Apr 2024) EndedAt: 2024-04-17 02:41:29 -0400 (Wed, 17 Apr 2024) EllapsedTime: 11.2 seconds RetCode: 0 Status: OK PackageFile: shinyepico_1.10.0.tar.gz PackageFileSize: 2.248 MiB