Package: scanMiRApp Version: 1.8.0 Command: rm -rf scanMiRApp.buildbin-libdir && mkdir scanMiRApp.buildbin-libdir && /Users/biocbuild/BBS/utils/build-universal.sh scanMiRApp_1.8.0.tar.gz /Library/Frameworks/R.framework/Resources/bin/R scanMiRApp.buildbin-libdir StartedAt: 2024-04-18 11:06:52 -0400 (Thu, 18 Apr 2024) EndedAt: 2024-04-18 11:08:01 -0400 (Thu, 18 Apr 2024) EllapsedTime: 68.5 seconds RetCode: 0 Status: OK PackageFile: scanMiRApp_1.8.0.tgz PackageFileSize: 1.36 MiB