Package: scTGIF Version: 1.16.0 Command: rm -rf scTGIF.buildbin-libdir && mkdir scTGIF.buildbin-libdir && /Users/biocbuild/BBS/utils/build-universal.sh scTGIF_1.16.0.tar.gz /Library/Frameworks/R.framework/Resources/bin/R scTGIF.buildbin-libdir StartedAt: 2024-04-18 11:13:31 -0400 (Thu, 18 Apr 2024) EndedAt: 2024-04-18 11:14:28 -0400 (Thu, 18 Apr 2024) EllapsedTime: 56.7 seconds RetCode: 0 Status: OK PackageFile: scTGIF_1.16.0.tgz PackageFileSize: 2.031 MiB