Package: ribosomeProfilingQC Version: 1.14.1 Command: rm -rf ribosomeProfilingQC.buildbin-libdir && mkdir ribosomeProfilingQC.buildbin-libdir && /Users/biocbuild/BBS/utils/build-universal.sh ribosomeProfilingQC_1.14.1.tar.gz /Library/Frameworks/R.framework/Resources/bin/R ribosomeProfilingQC.buildbin-libdir StartedAt: 2024-04-18 10:55:27 -0400 (Thu, 18 Apr 2024) EndedAt: 2024-04-18 10:56:49 -0400 (Thu, 18 Apr 2024) EllapsedTime: 82.6 seconds RetCode: 0 Status: OK PackageFile: ribosomeProfilingQC_1.14.1.tgz PackageFileSize: 3.394 MiB