Package: r3Cseq Version: 1.48.0 Command: rm -rf r3Cseq.buildbin-libdir && mkdir r3Cseq.buildbin-libdir && /Users/biocbuild/BBS/utils/build-universal.sh r3Cseq_1.48.0.tar.gz /Library/Frameworks/R.framework/Resources/bin/R r3Cseq.buildbin-libdir StartedAt: 2024-04-18 10:43:35 -0400 (Thu, 18 Apr 2024) EndedAt: 2024-04-18 10:44:39 -0400 (Thu, 18 Apr 2024) EllapsedTime: 63.6 seconds RetCode: 0 Status: OK PackageFile: r3Cseq_1.48.0.tgz PackageFileSize: 2.944 MiB