Package: qpgraph Version: 2.36.0 Command: rm -rf qpgraph.buildbin-libdir && mkdir qpgraph.buildbin-libdir && /Users/biocbuild/BBS/utils/build-universal.sh qpgraph_2.36.0.tar.gz /Library/Frameworks/R.framework/Resources/bin/R qpgraph.buildbin-libdir StartedAt: 2024-04-18 10:42:00 -0400 (Thu, 18 Apr 2024) EndedAt: 2024-04-18 10:43:35 -0400 (Thu, 18 Apr 2024) EllapsedTime: 94.6 seconds RetCode: 0 Status: OK PackageFile: qpgraph_2.36.0.tgz PackageFileSize: 4.094 MiB