Package: profileScoreDist Version: 1.30.0 Command: rm -rf profileScoreDist.buildbin-libdir && mkdir profileScoreDist.buildbin-libdir && /Users/biocbuild/BBS/utils/build-universal.sh profileScoreDist_1.30.0.tar.gz /Library/Frameworks/R.framework/Resources/bin/R profileScoreDist.buildbin-libdir StartedAt: 2024-04-18 10:39:10 -0400 (Thu, 18 Apr 2024) EndedAt: 2024-04-18 10:39:30 -0400 (Thu, 18 Apr 2024) EllapsedTime: 20.5 seconds RetCode: 0 Status: OK PackageFile: profileScoreDist_1.30.0.tgz PackageFileSize: 352.2 KiB