Package: plotgardener Version: 1.8.3 Command: /Library/Frameworks/R.framework/Resources/bin/R CMD INSTALL plotgardener StartedAt: 2024-04-16 11:00:46 -0400 (Tue, 16 Apr 2024) EndedAt: 2024-04-16 11:01:46 -0400 (Tue, 16 Apr 2024) EllapsedTime: 60.3 seconds RetCode: 0 Status: OK