Package: plotgardener Version: 1.8.3 Command: /Library/Frameworks/R.framework/Resources/bin/R CMD build --keep-empty-dirs --no-resave-data plotgardener StartedAt: 2024-04-16 23:49:10 -0400 (Tue, 16 Apr 2024) EndedAt: 2024-04-16 23:50:39 -0400 (Tue, 16 Apr 2024) EllapsedTime: 89.4 seconds RetCode: 0 Status: OK PackageFile: plotgardener_1.8.3.tar.gz PackageFileSize: 2.84 MiB