Package: plotgardener Version: 1.8.3 Command: rm -rf plotgardener.buildbin-libdir && mkdir plotgardener.buildbin-libdir && /Users/biocbuild/BBS/utils/build-universal.sh plotgardener_1.8.3.tar.gz /Library/Frameworks/R.framework/Resources/bin/R plotgardener.buildbin-libdir StartedAt: 2024-04-18 10:35:47 -0400 (Thu, 18 Apr 2024) EndedAt: 2024-04-18 10:37:04 -0400 (Thu, 18 Apr 2024) EllapsedTime: 77.5 seconds RetCode: 0 Status: OK PackageFile: plotgardener_1.8.3.tgz PackageFileSize: 3.619 MiB