Package: pipeFrame Version: 1.18.0 Command: /Library/Frameworks/R.framework/Resources/bin/R CMD build --keep-empty-dirs --no-resave-data pipeFrame StartedAt: 2024-04-16 23:46:55 -0400 (Tue, 16 Apr 2024) EndedAt: 2024-04-16 23:48:03 -0400 (Tue, 16 Apr 2024) EllapsedTime: 67.7 seconds RetCode: 0 Status: OK PackageFile: pipeFrame_1.18.0.tar.gz PackageFileSize: 1.195 MiB