Package: phosphonormalizer Version: 1.26.0 Command: rm -rf phosphonormalizer.buildbin-libdir && mkdir phosphonormalizer.buildbin-libdir && /Users/biocbuild/BBS/utils/build-universal.sh phosphonormalizer_1.26.0.tar.gz /Library/Frameworks/R.framework/Resources/bin/R phosphonormalizer.buildbin-libdir StartedAt: 2024-04-18 10:34:34 -0400 (Thu, 18 Apr 2024) EndedAt: 2024-04-18 10:34:40 -0400 (Thu, 18 Apr 2024) EllapsedTime: 5.6 seconds RetCode: 0 Status: OK PackageFile: phosphonormalizer_1.26.0.tgz PackageFileSize: 2.716 MiB