Package: pathifier Version: 1.40.0 Command: /Library/Frameworks/R.framework/Resources/bin/R CMD build --keep-empty-dirs --no-resave-data pathifier StartedAt: 2024-04-16 23:31:41 -0400 (Tue, 16 Apr 2024) EndedAt: 2024-04-16 23:32:03 -0400 (Tue, 16 Apr 2024) EllapsedTime: 21.4 seconds RetCode: 0 Status: OK PackageFile: pathifier_1.40.0.tar.gz PackageFileSize: 2.033 MiB