Package: omicsViewer Version: 1.6.0 Command: rm -rf omicsViewer.buildbin-libdir && mkdir omicsViewer.buildbin-libdir && /Users/biocbuild/BBS/utils/build-universal.sh omicsViewer_1.6.0.tar.gz /Library/Frameworks/R.framework/Resources/bin/R omicsViewer.buildbin-libdir StartedAt: 2024-04-18 10:27:11 -0400 (Thu, 18 Apr 2024) EndedAt: 2024-04-18 10:28:00 -0400 (Thu, 18 Apr 2024) EllapsedTime: 49.0 seconds RetCode: 0 Status: OK PackageFile: omicsViewer_1.6.0.tgz PackageFileSize: 4.328 MiB