Package: multiOmicsViz Version: 1.26.0 Command: rm -rf multiOmicsViz.buildbin-libdir && mkdir multiOmicsViz.buildbin-libdir && /Users/biocbuild/BBS/utils/build-universal.sh multiOmicsViz_1.26.0.tar.gz /Library/Frameworks/R.framework/Resources/bin/R multiOmicsViz.buildbin-libdir StartedAt: 2024-04-18 10:18:53 -0400 (Thu, 18 Apr 2024) EndedAt: 2024-04-18 10:19:26 -0400 (Thu, 18 Apr 2024) EllapsedTime: 32.8 seconds RetCode: 0 Status: OK PackageFile: multiOmicsViz_1.26.0.tgz PackageFileSize: 1.599 MiB